View In:
ArcGIS JavaScript
ArcGIS Online Map Viewer
ArcGIS Earth
Service Description: IMAGENES/1816_Plano_Alejandro_Velez2_tif
Name: IMAGENES/1816_Plano_Alejandro_Velez2_tif
Description:
Single Fused Map Cache: false
Extent:
XMin: 4736440.6306762695
YMin: 2237459.34173584
XMax: 4738339.2732543945
YMax: 2239536.070373535
Spatial Reference: 9377
(9377)
LatestVCSWkid(0)
Initial Extent:
XMin: 4736440.6306762695
YMin: 2237459.34173584
XMax: 4738339.2732543945
YMax: 2239536.070373535
Spatial Reference: 9377
(9377)
LatestVCSWkid(0)
Full Extent:
XMin: 4736440.6306762695
YMin: 2237459.34173584
XMax: 4738339.2732543945
YMax: 2239536.070373535
Spatial Reference: 9377
(9377)
LatestVCSWkid(0)
Pixel Size X: 0.3202298158416259
Pixel Size Y: 0.2563229619470887
Band Count: 3
Pixel Type: U16
RasterFunction Infos: {"rasterFunctionInfos": [{
"name": "None",
"description": "",
"help": ""
}]}
Mensuration Capabilities: Basic
Inspection Capabilities:
Has Histograms: true
Has Colormap: false
Has Multi Dimensions : false
Rendering Rule:
Min Scale: 0
Max Scale: 0
Copyright Text:
Service Data Type: esriImageServiceDataTypeGeneric
Min Values: 0, 0, 0
Max Values: 255, 255, 255
Mean Values: 240.04034822521, 227.66054919911, 204.81857647089
Standard Deviation Values: 17.531974163445, 16.541653066019, 17.414475153545
Object ID Field:
Fields:
None
Default Mosaic Method: Center
Allowed Mosaic Methods:
SortField:
SortValue: null
Mosaic Operator: First
Default Compression Quality: 75
Default Resampling Method: Bilinear
Max Record Count: null
Max Image Height: 4100
Max Image Width: 15000
Max Download Image Count: null
Max Mosaic Image Count: null
Allow Raster Function: true
Allow Copy: true
Allow Analysis: true
Allow Compute TiePoints: false
Supports Statistics: false
Supports Advanced Queries: false
Use StandardizedQueries: true
Raster Type Infos:
Name: Raster Dataset
Description: Compatible con todos los datasets de rĂ¡steres de ArcGIS
Help:
Has Raster Attribute Table: false
Edit Fields Info: null
Ownership Based AccessControl For Rasters: null
Child Resources:
Info
Histograms
Statistics
Key Properties
Legend
Raster Function Infos
Supported Operations:
Export Image
Identify
Measure
Compute Histograms
Compute Statistics Histograms
Get Samples
Compute Class Statistics
Query Boundary
Compute Pixel Location
Compute Angles
Validate
Project